BEGIN:VCALENDAR
VERSION:2.0
PRODID:-//Distrito LEO L D-7 - ECPv6.8.2//NONSGML v1.0//EN
CALSCALE:GREGORIAN
METHOD:PUBLISH
X-ORIGINAL-URL:https://www.leold7.org.br
X-WR-CALDESC:Eventos para Distrito LEO L D-7
REFRESH-INTERVAL;VALUE=DURATION:PT1H
X-Robots-Tag:noindex
X-PUBLISHED-TTL:PT1H
BEGIN:VTIMEZONE
TZID:America/Sao_Paulo
BEGIN:STANDARD
TZOFFSETFROM:-0300
TZOFFSETTO:-0300
TZNAME:-03
DTSTART:20240101T000000
END:STANDARD
END:VTIMEZONE
BEGIN:VEVENT
DTSTART;TZID=America/Sao_Paulo:20241124T200000
DTEND;TZID=America/Sao_Paulo:20241124T210000
DTSTAMP:20260419T223119
CREATED:20241120T144556Z
LAST-MODIFIED:20241120T144556Z
UID:3447-1732478400-1732482000@www.leold7.org.br
SUMMARY:II Workshop de Intercâmbio
DESCRIPTION:
URL:https://www.leold7.org.br/event/ii-workshop-de-intercambio/
LOCATION:Google Meet
CATEGORIES:Workshop
ATTACH;FMTTYPE=image/jpeg:https://www.leold7.org.br/wp-content/uploads/2024/11/images.jpg
END:VEVENT
END:VCALENDAR