BEGIN:VCALENDAR
VERSION:2.0
PRODID:-//Distrito LEO L D-7 - ECPv6.8.2//NONSGML v1.0//EN
CALSCALE:GREGORIAN
METHOD:PUBLISH
X-ORIGINAL-URL:https://www.leold7.org.br
X-WR-CALDESC:Eventos para Distrito LEO L D-7
REFRESH-INTERVAL;VALUE=DURATION:PT1H
X-Robots-Tag:noindex
X-PUBLISHED-TTL:PT1H
BEGIN:VTIMEZONE
TZID:America/Sao_Paulo
BEGIN:STANDARD
TZOFFSETFROM:-0300
TZOFFSETTO:-0300
TZNAME:-03
DTSTART:20240101T000000
END:STANDARD
END:VTIMEZONE
BEGIN:VEVENT
DTSTART;TZID=America/Sao_Paulo:20241130T090000
DTEND;TZID=America/Sao_Paulo:20241201T120000
DTSTAMP:20260419T204548
CREATED:20241120T145049Z
LAST-MODIFIED:20241120T145049Z
UID:3454-1732957200-1733054400@www.leold7.org.br
SUMMARY:VIII Plante (parte 1)
DESCRIPTION:
URL:https://www.leold7.org.br/event/viii-plante-parte-1/
LOCATION:Sananduva – RS\, 112\,\, R. Belizário Machado\, 2\, Sananduva\, Rio Grande do Sul\, 99840000\, Brazil
CATEGORIES:Evento Distrital
ATTACH;FMTTYPE=image/jpeg:https://www.leold7.org.br/wp-content/uploads/2024/11/WhatsApp-Image-2024-11-20-at-11.50.20.jpeg
END:VEVENT
END:VCALENDAR