BEGIN:VCALENDAR
VERSION:2.0
PRODID:-//Distrito LEO L D-7 - ECPv6.8.2//NONSGML v1.0//EN
CALSCALE:GREGORIAN
METHOD:PUBLISH
X-WR-CALNAME:Distrito LEO L D-7
X-ORIGINAL-URL:https://www.leold7.org.br
X-WR-CALDESC:Eventos para Distrito LEO L D-7
REFRESH-INTERVAL;VALUE=DURATION:PT1H
X-Robots-Tag:noindex
X-PUBLISHED-TTL:PT1H
BEGIN:VTIMEZONE
TZID:America/Sao_Paulo
BEGIN:STANDARD
TZOFFSETFROM:-0300
TZOFFSETTO:-0300
TZNAME:-03
DTSTART:20240101T000000
END:STANDARD
END:VTIMEZONE
BEGIN:VEVENT
DTSTART;VALUE=DATE:20241214
DTEND;VALUE=DATE:20241215
DTSTAMP:20260419T204336
CREATED:20241120T145728Z
LAST-MODIFIED:20241120T150631Z
UID:3462-1734134400-1734220799@www.leold7.org.br
SUMMARY:Integra da Região B
DESCRIPTION:
URL:https://www.leold7.org.br/event/integra-da-regiao-b/
LOCATION:Ibiraiaras
CATEGORIES:Evento Regional
ATTACH;FMTTYPE=image/png:https://www.leold7.org.br/wp-content/uploads/2024/11/LOGO-REGIAO-B.png
END:VEVENT
END:VCALENDAR