BEGIN:VCALENDAR
VERSION:2.0
PRODID:-//Distrito LEO L D-7 - ECPv6.8.2//NONSGML v1.0//EN
CALSCALE:GREGORIAN
METHOD:PUBLISH
X-WR-CALNAME:Distrito LEO L D-7
X-ORIGINAL-URL:https://www.leold7.org.br
X-WR-CALDESC:Eventos para Distrito LEO L D-7
REFRESH-INTERVAL;VALUE=DURATION:PT1H
X-Robots-Tag:noindex
X-PUBLISHED-TTL:PT1H
BEGIN:VTIMEZONE
TZID:America/Sao_Paulo
BEGIN:STANDARD
TZOFFSETFROM:-0300
TZOFFSETTO:-0300
TZNAME:-03
DTSTART:20250101T000000
END:STANDARD
END:VTIMEZONE
BEGIN:VEVENT
DTSTART;VALUE=DATE:20250115
DTEND;VALUE=DATE:20250116
DTSTAMP:20260419T190938
CREATED:20241120T150041Z
LAST-MODIFIED:20241120T171347Z
UID:3473-1736899200-1736985599@www.leold7.org.br
SUMMARY:Entrega de Relatórios ao DM
DESCRIPTION:
URL:https://www.leold7.org.br/event/entrega-de-relatorios-ao-dm/
LOCATION:Online
CATEGORIES:Evento DM
ATTACH;FMTTYPE=image/png:https://www.leold7.org.br/wp-content/uploads/2024/11/LOGO-PNG.png
END:VEVENT
BEGIN:VEVENT
DTSTART;TZID=America/Sao_Paulo:20250115T080000
DTEND;TZID=America/Sao_Paulo:20250118T170000
DTSTAMP:20260419T190938
CREATED:20241120T150247Z
LAST-MODIFIED:20241120T150247Z
UID:3476-1736928000-1737219600@www.leold7.org.br
SUMMARY:Folac
DESCRIPTION:
URL:https://www.leold7.org.br/event/folac/
LOCATION:Fortaleza\, Brazil
ATTACH;FMTTYPE=image/png:https://www.leold7.org.br/wp-content/uploads/2024/11/Captura-de-tela-2024-11-20-120210.png
END:VEVENT
END:VCALENDAR