BEGIN:VCALENDAR
VERSION:2.0
PRODID:-//Distrito LEO L D-7 - ECPv6.8.2//NONSGML v1.0//EN
CALSCALE:GREGORIAN
METHOD:PUBLISH
X-WR-CALNAME:Distrito LEO L D-7
X-ORIGINAL-URL:https://www.leold7.org.br
X-WR-CALDESC:Eventos para Distrito LEO L D-7
REFRESH-INTERVAL;VALUE=DURATION:PT1H
X-Robots-Tag:noindex
X-PUBLISHED-TTL:PT1H
BEGIN:VTIMEZONE
TZID:America/Sao_Paulo
BEGIN:STANDARD
TZOFFSETFROM:-0300
TZOFFSETTO:-0300
TZNAME:-03
DTSTART:20250101T000000
END:STANDARD
END:VTIMEZONE
BEGIN:VEVENT
DTSTART;TZID=America/Sao_Paulo:20250222T090000
DTEND;TZID=America/Sao_Paulo:20250223T123000
DTSTAMP:20260419T171413
CREATED:20241120T151550Z
LAST-MODIFIED:20241120T151550Z
UID:3504-1740214800-1740313800@www.leold7.org.br
SUMMARY:VII Plante (parte 2)
DESCRIPTION:
URL:https://www.leold7.org.br/event/vii-plante-parte-2/
LOCATION:Ibiraiaras
CATEGORIES:Evento Distrital
ATTACH;FMTTYPE=image/jpeg:https://www.leold7.org.br/wp-content/uploads/2024/11/WhatsApp-Image-2024-11-20-at-11.50.20.jpeg
END:VEVENT
END:VCALENDAR