BEGIN:VCALENDAR
VERSION:2.0
PRODID:-//Distrito LEO L D-7 - ECPv6.8.2//NONSGML v1.0//EN
CALSCALE:GREGORIAN
METHOD:PUBLISH
X-ORIGINAL-URL:https://www.leold7.org.br
X-WR-CALDESC:Eventos para Distrito LEO L D-7
REFRESH-INTERVAL;VALUE=DURATION:PT1H
X-Robots-Tag:noindex
X-PUBLISHED-TTL:PT1H
BEGIN:VTIMEZONE
TZID:America/Sao_Paulo
BEGIN:STANDARD
TZOFFSETFROM:-0300
TZOFFSETTO:-0300
TZNAME:-03
DTSTART:20250101T000000
END:STANDARD
END:VTIMEZONE
BEGIN:VEVENT
DTSTART;VALUE=DATE:20250318
DTEND;VALUE=DATE:20250319
DTSTAMP:20260419T153529
CREATED:20241120T151832Z
LAST-MODIFIED:20241120T151832Z
UID:3511-1742256000-1742342399@www.leold7.org.br
SUMMARY:Entrega de Relatórios 3° Trimestre
DESCRIPTION:
URL:https://www.leold7.org.br/event/entrega-de-relatorios-3-trimestre/
LOCATION:Online
CATEGORIES:Evento Distrital
ATTACH;FMTTYPE=image/png:https://www.leold7.org.br/wp-content/uploads/2024/11/LOGO-D-7-AL-24-25.png
END:VEVENT
END:VCALENDAR