BEGIN:VCALENDAR
VERSION:2.0
PRODID:-//Distrito LEO L D-7 - ECPv6.8.2//NONSGML v1.0//EN
CALSCALE:GREGORIAN
METHOD:PUBLISH
X-ORIGINAL-URL:https://www.leold7.org.br
X-WR-CALDESC:Eventos para Distrito LEO L D-7
REFRESH-INTERVAL;VALUE=DURATION:PT1H
X-Robots-Tag:noindex
X-PUBLISHED-TTL:PT1H
BEGIN:VTIMEZONE
TZID:America/Sao_Paulo
BEGIN:STANDARD
TZOFFSETFROM:-0300
TZOFFSETTO:-0300
TZNAME:-03
DTSTART:20250101T000000
END:STANDARD
END:VTIMEZONE
BEGIN:VEVENT
DTSTART;TZID=America/Sao_Paulo:20250322T080000
DTEND;TZID=America/Sao_Paulo:20250323T123000
DTSTAMP:20260419T153422
CREATED:20241120T151920Z
LAST-MODIFIED:20241120T151920Z
UID:3513-1742630400-1742733000@www.leold7.org.br
SUMMARY:XV Treino Líder
DESCRIPTION:
URL:https://www.leold7.org.br/event/xv-treino-lider/
LOCATION:Rio Grande do Sul
CATEGORIES:Evento Distrital
ATTACH;FMTTYPE=image/png:https://www.leold7.org.br/wp-content/uploads/2024/11/LOGO-D-7-AL-24-25.png
END:VEVENT
END:VCALENDAR