BEGIN:VCALENDAR
VERSION:2.0
PRODID:-//Distrito LEO L D-7 - ECPv6.8.2//NONSGML v1.0//EN
CALSCALE:GREGORIAN
METHOD:PUBLISH
X-WR-CALNAME:Distrito LEO L D-7
X-ORIGINAL-URL:https://www.leold7.org.br
X-WR-CALDESC:Eventos para Distrito LEO L D-7
REFRESH-INTERVAL;VALUE=DURATION:PT1H
X-Robots-Tag:noindex
X-PUBLISHED-TTL:PT1H
BEGIN:VTIMEZONE
TZID:America/Sao_Paulo
BEGIN:STANDARD
TZOFFSETFROM:-0300
TZOFFSETTO:-0300
TZNAME:-03
DTSTART:20250101T000000
END:STANDARD
END:VTIMEZONE
BEGIN:VEVENT
DTSTART;TZID=America/Sao_Paulo:20250329T080000
DTEND;TZID=America/Sao_Paulo:20250330T133000
DTSTAMP:20260419T154248
CREATED:20241120T152027Z
LAST-MODIFIED:20241120T152027Z
UID:3515-1743235200-1743341400@www.leold7.org.br
SUMMARY:III CDM
DESCRIPTION:
URL:https://www.leold7.org.br/event/iii-cdm/
LOCATION:São Miguel do Oeste\, Brazil
CATEGORIES:Evento DM
END:VEVENT
BEGIN:VEVENT
DTSTART;TZID=America/Sao_Paulo:20250406T200000
DTEND;TZID=America/Sao_Paulo:20250406T210000
DTSTAMP:20260419T154248
CREATED:20241120T152126Z
LAST-MODIFIED:20241120T152126Z
UID:3519-1743969600-1743973200@www.leold7.org.br
SUMMARY:Reunião Trimestral do Gabinete
DESCRIPTION:
URL:https://www.leold7.org.br/event/reuniao-trimestral-do-gabinete-2/
LOCATION:Online
ATTACH;FMTTYPE=image/jpeg:https://www.leold7.org.br/wp-content/uploads/2024/11/WhatsApp-Image-2024-11-20-at-11.53.28.jpeg
END:VEVENT
BEGIN:VEVENT
DTSTART;TZID=America/Sao_Paulo:20250412T080000
DTEND;TZID=America/Sao_Paulo:20250413T120000
DTSTAMP:20260419T154248
CREATED:20241120T161204Z
LAST-MODIFIED:20241120T161204Z
UID:3521-1744444800-1744545600@www.leold7.org.br
SUMMARY:XXXVI Conferência Distrital e IV RCD do Distrito LEO L D-7
DESCRIPTION:
URL:https://www.leold7.org.br/event/xxxvi-conferencia-distrital-e-iv-rcd-do-distrito-leo-l-d-7/
LOCATION:Sarandi\, Rio Grande do Sul\, Brazil
CATEGORIES:Evento Distrital
ATTACH;FMTTYPE=image/png:https://www.leold7.org.br/wp-content/uploads/2024/11/logo-03.png
END:VEVENT
BEGIN:VEVENT
DTSTART;VALUE=DATE:20250415
DTEND;VALUE=DATE:20250416
DTSTAMP:20260419T154248
CREATED:20241120T161253Z
LAST-MODIFIED:20241120T162858Z
UID:3526-1744675200-1744761599@www.leold7.org.br
SUMMARY:Entrega dos Relatórios ao DM 3° Trimestre
DESCRIPTION:
URL:https://www.leold7.org.br/event/entrega-dos-relatorios-ao-dm-3-trimestre/
LOCATION:Online
CATEGORIES:Evento DM
ATTACH;FMTTYPE=image/png:https://www.leold7.org.br/wp-content/uploads/2024/11/LOGO-PNG.png
END:VEVENT
BEGIN:VEVENT
DTSTART;TZID=America/Sao_Paulo:20250426T080000
DTEND;TZID=America/Sao_Paulo:20250426T130000
DTSTAMP:20260419T154248
CREATED:20241120T161413Z
LAST-MODIFIED:20241120T161413Z
UID:3528-1745654400-1745672400@www.leold7.org.br
SUMMARY:1° Encontro Distrital de Leãozinho
DESCRIPTION:
URL:https://www.leold7.org.br/event/1-encontro-distrital-de-leaozinho/
LOCATION:Rio Grande do Sul
CATEGORIES:Evento Lions
ATTACH;FMTTYPE=image/png:https://www.leold7.org.br/wp-content/uploads/2024/11/LOGO-LEAOZINHO.png
END:VEVENT
BEGIN:VEVENT
DTSTART;VALUE=DATE:20250503
DTEND;VALUE=DATE:20250504
DTSTAMP:20260419T154248
CREATED:20241120T161523Z
LAST-MODIFIED:20241120T161649Z
UID:3532-1746230400-1746316799@www.leold7.org.br
SUMMARY:Baile dos 35 anos do Distrito LEO L D-7
DESCRIPTION:
URL:https://www.leold7.org.br/event/baile-dos-35-anos-do-distrito-leo-l-d-7/
LOCATION:Arvorezinha\, Rio Grande do Sul\, Brazil
CATEGORIES:Evento Distrital
ATTACH;FMTTYPE=image/png:https://www.leold7.org.br/wp-content/uploads/2024/11/LOGO-D-7-AL-24-25.png
END:VEVENT
BEGIN:VEVENT
DTSTART;TZID=America/Sao_Paulo:20250510T080000
DTEND;TZID=America/Sao_Paulo:20250510T133000
DTSTAMP:20260419T154248
CREATED:20241120T161618Z
LAST-MODIFIED:20241120T161618Z
UID:3536-1746864000-1746883800@www.leold7.org.br
SUMMARY:RGD Lions
DESCRIPTION:
URL:https://www.leold7.org.br/event/rgd-lions-2/
LOCATION:Constantina\, Rio Grande do Sul\, Brazil
CATEGORIES:Evento Lions
ATTACH;FMTTYPE=image/png:https://www.leold7.org.br/wp-content/uploads/2024/11/LOGO-LIONS.png
END:VEVENT
BEGIN:VEVENT
DTSTART;VALUE=DATE:20250527
DTEND;VALUE=DATE:20250730
DTSTAMP:20260419T154248
CREATED:20241120T161800Z
LAST-MODIFIED:20241120T161800Z
UID:3540-1748304000-1753833599@www.leold7.org.br
SUMMARY:Entrega de Relatórios 4° Trimestre
DESCRIPTION:
URL:https://www.leold7.org.br/event/entrega-de-relatorios-4-trimestre/
LOCATION:Online
CATEGORIES:Evento Distrital
ATTACH;FMTTYPE=image/png:https://www.leold7.org.br/wp-content/uploads/2024/11/LOGO-D-7-AL-24-25.png
END:VEVENT
BEGIN:VEVENT
DTSTART;VALUE=DATE:20250615
DTEND;VALUE=DATE:20250616
DTSTAMP:20260419T154248
CREATED:20241120T161849Z
LAST-MODIFIED:20241120T162731Z
UID:3542-1749945600-1750031999@www.leold7.org.br
SUMMARY:Entrega de Relatórios ao DM 4° Trimestre
DESCRIPTION:
URL:https://www.leold7.org.br/event/entrega-de-relatorios-ao-dm-4-trimestre/
LOCATION:Online
CATEGORIES:Evento DM
ATTACH;FMTTYPE=image/png:https://www.leold7.org.br/wp-content/uploads/2024/11/LOGO-PNG.png
END:VEVENT
BEGIN:VEVENT
DTSTART;TZID=America/Sao_Paulo:20250711T080000
DTEND;TZID=America/Sao_Paulo:20250713T133000
DTSTAMP:20260419T154248
CREATED:20241120T162007Z
LAST-MODIFIED:20241120T162007Z
UID:3544-1752220800-1752413400@www.leold7.org.br
SUMMARY:XXVI Conferência do Distrito Múltiplo LEO L D
DESCRIPTION:
URL:https://www.leold7.org.br/event/xxvi-conferencia-do-distrito-multiplo-leo-l-d/
LOCATION:Tapejara\, Rio Grande do Sul\, Brazil
CATEGORIES:Evento DM
END:VEVENT
END:VCALENDAR