BEGIN:VCALENDAR
VERSION:2.0
PRODID:-//Distrito LEO L D-7 - ECPv6.8.2//NONSGML v1.0//EN
CALSCALE:GREGORIAN
METHOD:PUBLISH
X-WR-CALNAME:Distrito LEO L D-7
X-ORIGINAL-URL:https://www.leold7.org.br
X-WR-CALDESC:Eventos para Distrito LEO L D-7
REFRESH-INTERVAL;VALUE=DURATION:PT1H
X-Robots-Tag:noindex
X-PUBLISHED-TTL:PT1H
BEGIN:VTIMEZONE
TZID:America/Sao_Paulo
BEGIN:STANDARD
TZOFFSETFROM:-0300
TZOFFSETTO:-0300
TZNAME:-03
DTSTART:20250101T000000
END:STANDARD
END:VTIMEZONE
BEGIN:VEVENT
DTSTART;VALUE=DATE:20250115
DTEND;VALUE=DATE:20250116
DTSTAMP:20260419T171321
CREATED:20241120T150041Z
LAST-MODIFIED:20241120T171347Z
UID:3473-1736899200-1736985599@www.leold7.org.br
SUMMARY:Entrega de Relatórios ao DM
DESCRIPTION:
URL:https://www.leold7.org.br/event/entrega-de-relatorios-ao-dm/
LOCATION:Online
CATEGORIES:Evento DM
ATTACH;FMTTYPE=image/png:https://www.leold7.org.br/wp-content/uploads/2024/11/LOGO-PNG.png
END:VEVENT
BEGIN:VEVENT
DTSTART;TZID=America/Sao_Paulo:20250115T080000
DTEND;TZID=America/Sao_Paulo:20250118T170000
DTSTAMP:20260419T171321
CREATED:20241120T150247Z
LAST-MODIFIED:20241120T150247Z
UID:3476-1736928000-1737219600@www.leold7.org.br
SUMMARY:Folac
DESCRIPTION:
URL:https://www.leold7.org.br/event/folac/
LOCATION:Fortaleza\, Brazil
ATTACH;FMTTYPE=image/png:https://www.leold7.org.br/wp-content/uploads/2024/11/Captura-de-tela-2024-11-20-120210.png
END:VEVENT
BEGIN:VEVENT
DTSTART;TZID=America/Sao_Paulo:20250118T080000
DTEND;TZID=America/Sao_Paulo:20250119T120000
DTSTAMP:20260419T171321
CREATED:20241120T150438Z
LAST-MODIFIED:20241120T150611Z
UID:3480-1737187200-1737288000@www.leold7.org.br
SUMMARY:Mochileo do DM
DESCRIPTION:
URL:https://www.leold7.org.br/event/mochileo-do-dm/
LOCATION:Garibaldi\, Brazil
CATEGORIES:Evento DM
ATTACH;FMTTYPE=image/jpeg:https://www.leold7.org.br/wp-content/uploads/2024/11/1445594092.jpg
END:VEVENT
BEGIN:VEVENT
DTSTART;VALUE=DATE:20250125
DTEND;VALUE=DATE:20250126
DTSTAMP:20260419T171321
CREATED:20241120T150556Z
LAST-MODIFIED:20241120T150556Z
UID:3485-1737763200-1737849599@www.leold7.org.br
SUMMARY:Amistoso da Região A
DESCRIPTION:
URL:https://www.leold7.org.br/event/amistoso-da-regiao-a/
LOCATION:Bento Gonçalves\, Brazil
CATEGORIES:Evento Regional
ATTACH;FMTTYPE=image/png:https://www.leold7.org.br/wp-content/uploads/2024/11/LOGO-REGIAO-A.png
END:VEVENT
BEGIN:VEVENT
DTSTART;TZID=America/Sao_Paulo:20250130T080000
DTEND;TZID=America/Sao_Paulo:20250202T170000
DTSTAMP:20260419T171321
CREATED:20241120T150841Z
LAST-MODIFIED:20241120T150841Z
UID:3489-1738224000-1738515600@www.leold7.org.br
SUMMARY:Foleobras
DESCRIPTION:
URL:https://www.leold7.org.br/event/foleobras/
LOCATION:São José do Rio Preto\, São Paulo\, Brazil
CATEGORIES:Evento Nacional
ATTACH;FMTTYPE=image/jpeg:https://www.leold7.org.br/wp-content/uploads/2024/11/images-1.jpg
END:VEVENT
END:VCALENDAR