BEGIN:VCALENDAR
VERSION:2.0
PRODID:-//Distrito LEO L D-7 - ECPv6.8.2//NONSGML v1.0//EN
CALSCALE:GREGORIAN
METHOD:PUBLISH
X-WR-CALNAME:Distrito LEO L D-7
X-ORIGINAL-URL:https://www.leold7.org.br
X-WR-CALDESC:Eventos para Distrito LEO L D-7
REFRESH-INTERVAL;VALUE=DURATION:PT1H
X-Robots-Tag:noindex
X-PUBLISHED-TTL:PT1H
BEGIN:VTIMEZONE
TZID:America/Sao_Paulo
BEGIN:STANDARD
TZOFFSETFROM:-0300
TZOFFSETTO:-0300
TZNAME:-03
DTSTART:20250101T000000
END:STANDARD
END:VTIMEZONE
BEGIN:VEVENT
DTSTART;TZID=America/Sao_Paulo:20250406T200000
DTEND;TZID=America/Sao_Paulo:20250406T210000
DTSTAMP:20260419T120543
CREATED:20241120T152126Z
LAST-MODIFIED:20241120T152126Z
UID:3519-1743969600-1743973200@www.leold7.org.br
SUMMARY:Reunião Trimestral do Gabinete
DESCRIPTION:
URL:https://www.leold7.org.br/event/reuniao-trimestral-do-gabinete-2/
LOCATION:Online
ATTACH;FMTTYPE=image/jpeg:https://www.leold7.org.br/wp-content/uploads/2024/11/WhatsApp-Image-2024-11-20-at-11.53.28.jpeg
END:VEVENT
BEGIN:VEVENT
DTSTART;TZID=America/Sao_Paulo:20250412T080000
DTEND;TZID=America/Sao_Paulo:20250413T120000
DTSTAMP:20260419T120543
CREATED:20241120T161204Z
LAST-MODIFIED:20241120T161204Z
UID:3521-1744444800-1744545600@www.leold7.org.br
SUMMARY:XXXVI Conferência Distrital e IV RCD do Distrito LEO L D-7
DESCRIPTION:
URL:https://www.leold7.org.br/event/xxxvi-conferencia-distrital-e-iv-rcd-do-distrito-leo-l-d-7/
LOCATION:Sarandi\, Rio Grande do Sul\, Brazil
CATEGORIES:Evento Distrital
ATTACH;FMTTYPE=image/png:https://www.leold7.org.br/wp-content/uploads/2024/11/logo-03.png
END:VEVENT
BEGIN:VEVENT
DTSTART;VALUE=DATE:20250415
DTEND;VALUE=DATE:20250416
DTSTAMP:20260419T120543
CREATED:20241120T161253Z
LAST-MODIFIED:20241120T162858Z
UID:3526-1744675200-1744761599@www.leold7.org.br
SUMMARY:Entrega dos Relatórios ao DM 3° Trimestre
DESCRIPTION:
URL:https://www.leold7.org.br/event/entrega-dos-relatorios-ao-dm-3-trimestre/
LOCATION:Online
CATEGORIES:Evento DM
ATTACH;FMTTYPE=image/png:https://www.leold7.org.br/wp-content/uploads/2024/11/LOGO-PNG.png
END:VEVENT
BEGIN:VEVENT
DTSTART;TZID=America/Sao_Paulo:20250426T080000
DTEND;TZID=America/Sao_Paulo:20250426T130000
DTSTAMP:20260419T120543
CREATED:20241120T161413Z
LAST-MODIFIED:20241120T161413Z
UID:3528-1745654400-1745672400@www.leold7.org.br
SUMMARY:1° Encontro Distrital de Leãozinho
DESCRIPTION:
URL:https://www.leold7.org.br/event/1-encontro-distrital-de-leaozinho/
LOCATION:Rio Grande do Sul
CATEGORIES:Evento Lions
ATTACH;FMTTYPE=image/png:https://www.leold7.org.br/wp-content/uploads/2024/11/LOGO-LEAOZINHO.png
END:VEVENT
END:VCALENDAR